BEGIN:VCALENDAR
VERSION:2.0
PRODID:-//Discover White River - ECPv6.15.18//NONSGML v1.0//EN
CALSCALE:GREGORIAN
METHOD:PUBLISH
X-WR-CALNAME:Discover White River
X-ORIGINAL-URL:https://discoverwhiteriver.com
X-WR-CALDESC:Events for Discover White River
REFRESH-INTERVAL;VALUE=DURATION:PT1H
X-Robots-Tag:noindex
X-PUBLISHED-TTL:PT1H
BEGIN:VTIMEZONE
TZID:America/Indiana/Indianapolis
BEGIN:DAYLIGHT
TZOFFSETFROM:-0500
TZOFFSETTO:-0400
TZNAME:EDT
DTSTART:20250309T070000
END:DAYLIGHT
BEGIN:STANDARD
TZOFFSETFROM:-0400
TZOFFSETTO:-0500
TZNAME:EST
DTSTART:20251102T060000
END:STANDARD
BEGIN:DAYLIGHT
TZOFFSETFROM:-0500
TZOFFSETTO:-0400
TZNAME:EDT
DTSTART:20260308T070000
END:DAYLIGHT
BEGIN:STANDARD
TZOFFSETFROM:-0400
TZOFFSETTO:-0500
TZNAME:EST
DTSTART:20261101T060000
END:STANDARD
BEGIN:DAYLIGHT
TZOFFSETFROM:-0500
TZOFFSETTO:-0400
TZNAME:EDT
DTSTART:20270314T070000
END:DAYLIGHT
BEGIN:STANDARD
TZOFFSETFROM:-0400
TZOFFSETTO:-0500
TZNAME:EST
DTSTART:20271107T060000
END:STANDARD
END:VTIMEZONE
BEGIN:VEVENT
DTSTART;TZID=America/Indiana/Indianapolis:20260421T160000
DTEND;TZID=America/Indiana/Indianapolis:20260421T170000
DTSTAMP:20260421T155951
CREATED:20260116T150554Z
LAST-MODIFIED:20260310T184432Z
UID:10011662-1776787200-1776790800@discoverwhiteriver.com
SUMMARY:Sensory Art Class | Riverside
DESCRIPTION:A fun\, hands-on program designed to help toddlers explore textures\, colors\, sounds\, and movement through playful sensory activities that support early learning and development. \n\n\n\nAges 3-6
URL:https://discoverwhiteriver.com/event/visual-arts-sensory-art-class-riverside/2026-04-21/
LOCATION:Riverside Park\, 2420 E Riverside Dr\, Indianapolis\, IN\, 46208
CATEGORIES:History & Culture,Recreation
ATTACH;FMTTYPE=image/jpeg:https://discoverwhiteriver.com/wp-content/uploads/2021/08/Banner-Riverside.jpg
GEO:39.8016824;-86.1930541
X-APPLE-STRUCTURED-LOCATION;VALUE=URI;X-ADDRESS=Riverside Park 2420 E Riverside Dr Indianapolis IN 46208;X-APPLE-RADIUS=500;X-TITLE=2420 E Riverside Dr:geo:-86.1930541,39.8016824
END:VEVENT
BEGIN:VEVENT
DTSTART;TZID=America/Indiana/Indianapolis:20260428T160000
DTEND;TZID=America/Indiana/Indianapolis:20260428T170000
DTSTAMP:20260421T155951
CREATED:20260116T150554Z
LAST-MODIFIED:20260310T184432Z
UID:10011663-1777392000-1777395600@discoverwhiteriver.com
SUMMARY:Sensory Art Class | Riverside
DESCRIPTION:A fun\, hands-on program designed to help toddlers explore textures\, colors\, sounds\, and movement through playful sensory activities that support early learning and development. \n\n\n\nAges 3-6
URL:https://discoverwhiteriver.com/event/visual-arts-sensory-art-class-riverside/2026-04-28/
LOCATION:Riverside Park\, 2420 E Riverside Dr\, Indianapolis\, IN\, 46208
CATEGORIES:History & Culture,Recreation
ATTACH;FMTTYPE=image/jpeg:https://discoverwhiteriver.com/wp-content/uploads/2021/08/Banner-Riverside.jpg
GEO:39.8016824;-86.1930541
X-APPLE-STRUCTURED-LOCATION;VALUE=URI;X-ADDRESS=Riverside Park 2420 E Riverside Dr Indianapolis IN 46208;X-APPLE-RADIUS=500;X-TITLE=2420 E Riverside Dr:geo:-86.1930541,39.8016824
END:VEVENT
BEGIN:VEVENT
DTSTART;TZID=America/Indiana/Indianapolis:20260505T160000
DTEND;TZID=America/Indiana/Indianapolis:20260505T170000
DTSTAMP:20260421T155951
CREATED:20260116T150554Z
LAST-MODIFIED:20260310T184432Z
UID:10011664-1777996800-1778000400@discoverwhiteriver.com
SUMMARY:Sensory Art Class | Riverside
DESCRIPTION:A fun\, hands-on program designed to help toddlers explore textures\, colors\, sounds\, and movement through playful sensory activities that support early learning and development. \n\n\n\nAges 3-6
URL:https://discoverwhiteriver.com/event/visual-arts-sensory-art-class-riverside/2026-05-05/
LOCATION:Riverside Park\, 2420 E Riverside Dr\, Indianapolis\, IN\, 46208
CATEGORIES:History & Culture,Recreation
ATTACH;FMTTYPE=image/jpeg:https://discoverwhiteriver.com/wp-content/uploads/2021/08/Banner-Riverside.jpg
GEO:39.8016824;-86.1930541
X-APPLE-STRUCTURED-LOCATION;VALUE=URI;X-ADDRESS=Riverside Park 2420 E Riverside Dr Indianapolis IN 46208;X-APPLE-RADIUS=500;X-TITLE=2420 E Riverside Dr:geo:-86.1930541,39.8016824
END:VEVENT
BEGIN:VEVENT
DTSTART;TZID=America/Indiana/Indianapolis:20260512T160000
DTEND;TZID=America/Indiana/Indianapolis:20260512T170000
DTSTAMP:20260421T155951
CREATED:20260116T150554Z
LAST-MODIFIED:20260310T184432Z
UID:10011665-1778601600-1778605200@discoverwhiteriver.com
SUMMARY:Sensory Art Class | Riverside
DESCRIPTION:A fun\, hands-on program designed to help toddlers explore textures\, colors\, sounds\, and movement through playful sensory activities that support early learning and development. \n\n\n\nAges 3-6
URL:https://discoverwhiteriver.com/event/visual-arts-sensory-art-class-riverside/2026-05-12/
LOCATION:Riverside Park\, 2420 E Riverside Dr\, Indianapolis\, IN\, 46208
CATEGORIES:History & Culture,Recreation
ATTACH;FMTTYPE=image/jpeg:https://discoverwhiteriver.com/wp-content/uploads/2021/08/Banner-Riverside.jpg
GEO:39.8016824;-86.1930541
X-APPLE-STRUCTURED-LOCATION;VALUE=URI;X-ADDRESS=Riverside Park 2420 E Riverside Dr Indianapolis IN 46208;X-APPLE-RADIUS=500;X-TITLE=2420 E Riverside Dr:geo:-86.1930541,39.8016824
END:VEVENT
BEGIN:VEVENT
DTSTART;TZID=America/Indiana/Indianapolis:20260519T160000
DTEND;TZID=America/Indiana/Indianapolis:20260519T170000
DTSTAMP:20260421T155951
CREATED:20260116T150554Z
LAST-MODIFIED:20260310T184432Z
UID:10011666-1779206400-1779210000@discoverwhiteriver.com
SUMMARY:Sensory Art Class | Riverside
DESCRIPTION:A fun\, hands-on program designed to help toddlers explore textures\, colors\, sounds\, and movement through playful sensory activities that support early learning and development. \n\n\n\nAges 3-6
URL:https://discoverwhiteriver.com/event/visual-arts-sensory-art-class-riverside/2026-05-19/
LOCATION:Riverside Park\, 2420 E Riverside Dr\, Indianapolis\, IN\, 46208
CATEGORIES:History & Culture,Recreation
ATTACH;FMTTYPE=image/jpeg:https://discoverwhiteriver.com/wp-content/uploads/2021/08/Banner-Riverside.jpg
GEO:39.8016824;-86.1930541
X-APPLE-STRUCTURED-LOCATION;VALUE=URI;X-ADDRESS=Riverside Park 2420 E Riverside Dr Indianapolis IN 46208;X-APPLE-RADIUS=500;X-TITLE=2420 E Riverside Dr:geo:-86.1930541,39.8016824
END:VEVENT
BEGIN:VEVENT
DTSTART;TZID=America/Indiana/Indianapolis:20260526T160000
DTEND;TZID=America/Indiana/Indianapolis:20260526T170000
DTSTAMP:20260421T155951
CREATED:20260116T150554Z
LAST-MODIFIED:20260310T184432Z
UID:10011667-1779811200-1779814800@discoverwhiteriver.com
SUMMARY:Sensory Art Class | Riverside
DESCRIPTION:A fun\, hands-on program designed to help toddlers explore textures\, colors\, sounds\, and movement through playful sensory activities that support early learning and development. \n\n\n\nAges 3-6
URL:https://discoverwhiteriver.com/event/visual-arts-sensory-art-class-riverside/2026-05-26/
LOCATION:Riverside Park\, 2420 E Riverside Dr\, Indianapolis\, IN\, 46208
CATEGORIES:History & Culture,Recreation
ATTACH;FMTTYPE=image/jpeg:https://discoverwhiteriver.com/wp-content/uploads/2021/08/Banner-Riverside.jpg
GEO:39.8016824;-86.1930541
X-APPLE-STRUCTURED-LOCATION;VALUE=URI;X-ADDRESS=Riverside Park 2420 E Riverside Dr Indianapolis IN 46208;X-APPLE-RADIUS=500;X-TITLE=2420 E Riverside Dr:geo:-86.1930541,39.8016824
END:VEVENT
END:VCALENDAR