BEGIN:VCALENDAR
VERSION:2.0
PRODID:-//Discover White River - ECPv6.15.18//NONSGML v1.0//EN
CALSCALE:GREGORIAN
METHOD:PUBLISH
X-WR-CALNAME:Discover White River
X-ORIGINAL-URL:https://discoverwhiteriver.com
X-WR-CALDESC:Events for Discover White River
REFRESH-INTERVAL;VALUE=DURATION:PT1H
X-Robots-Tag:noindex
X-PUBLISHED-TTL:PT1H
BEGIN:VTIMEZONE
TZID:America/Indiana/Indianapolis
BEGIN:DAYLIGHT
TZOFFSETFROM:-0500
TZOFFSETTO:-0400
TZNAME:EDT
DTSTART:20250309T070000
END:DAYLIGHT
BEGIN:STANDARD
TZOFFSETFROM:-0400
TZOFFSETTO:-0500
TZNAME:EST
DTSTART:20251102T060000
END:STANDARD
BEGIN:DAYLIGHT
TZOFFSETFROM:-0500
TZOFFSETTO:-0400
TZNAME:EDT
DTSTART:20260308T070000
END:DAYLIGHT
BEGIN:STANDARD
TZOFFSETFROM:-0400
TZOFFSETTO:-0500
TZNAME:EST
DTSTART:20261101T060000
END:STANDARD
BEGIN:DAYLIGHT
TZOFFSETFROM:-0500
TZOFFSETTO:-0400
TZNAME:EDT
DTSTART:20270314T070000
END:DAYLIGHT
BEGIN:STANDARD
TZOFFSETFROM:-0400
TZOFFSETTO:-0500
TZNAME:EST
DTSTART:20271107T060000
END:STANDARD
END:VTIMEZONE
BEGIN:VEVENT
DTSTART;TZID=America/Indiana/Indianapolis:20260809T120000
DTEND;TZID=America/Indiana/Indianapolis:20260809T160000
DTSTAMP:20260420T092205
CREATED:20260311T164537Z
LAST-MODIFIED:20260323T130530Z
UID:10012227-1786276800-1786291200@discoverwhiteriver.com
SUMMARY:RAFT Water Sampling
DESCRIPTION:Join RAFT  (River Assessment Field Teams) Volunteers to conduct essential water quality sampling. With some time and dedication\, anyone 18 years of age and older with moderate physical fitness (due to uneven terrain) can become a RAFT volunteer. Before becoming a RAFT volunteer\, first complete the online RAFT training program. This will provide an important foundation for understanding what’s involved in water sampling as well as the science behind the various measurements you will take in the field.
URL:https://discoverwhiteriver.com/event/water-sampling-2/2026-08-09/
LOCATION:Oliver’s Woods\, 8825 River Road\, Indianapolis\, IN\, 46240
CATEGORIES:Environment & Ecology,Volunteer & Service
ATTACH;FMTTYPE=image/png:https://discoverwhiteriver.com/wp-content/uploads/2024/01/RAFT_resized.png
GEO:39.914031;-86.09322
X-APPLE-STRUCTURED-LOCATION;VALUE=URI;X-ADDRESS=Oliver’s Woods 8825 River Road Indianapolis IN 46240;X-APPLE-RADIUS=500;X-TITLE=8825 River Road:geo:-86.09322,39.914031
END:VEVENT
BEGIN:VEVENT
DTSTART;TZID=America/Indiana/Indianapolis:20260809T183000
DTEND;TZID=America/Indiana/Indianapolis:20260809T213000
DTSTAMP:20260420T092205
CREATED:20260223T155117Z
LAST-MODIFIED:20260323T130651Z
UID:10011866-1786300200-1786311000@discoverwhiteriver.com
SUMMARY:Young the Giant - Victory Garden Tour with Cold War Kids
DESCRIPTION:Enjoy a night of compelling alternative rock at Everwise Amphitheater with Young the Giant on their Victory Garden Tour. The band will perform songs from their new album Victory Garden along with fan favorites from their catalog\, showcasing their melodic hooks and emotional lyricism. Joined by support from Cold War Kids\, who bring their distinctive indie and blues‑influenced sound and are celebrating the 20th anniversary of their breakthrough debut\, this lineup offers an engaging blend of dynamic live energy and thoughtful songwriting for fans of modern rock and alternative music.
URL:https://discoverwhiteriver.com/event/young-the-giant-victory-garden-tour-with-cold-war-kids/
LOCATION:Everwise Amphitheater at White River State Park\, 801 W Washington ST\, Indianapolis\, IN\, 46204
CATEGORIES:Entertainment,Featured
ATTACH;FMTTYPE=image/png:https://discoverwhiteriver.com/wp-content/uploads/2026/02/Everwise_Ampitheatre.png
GEO:39.7665145;-86.170606
X-APPLE-STRUCTURED-LOCATION;VALUE=URI;X-ADDRESS=Everwise Amphitheater at White River State Park 801 W Washington ST Indianapolis IN 46204;X-APPLE-RADIUS=500;X-TITLE=801 W Washington ST:geo:-86.170606,39.7665145
END:VEVENT
BEGIN:VEVENT
DTSTART;TZID=America/Indiana/Indianapolis:20260811T190000
DTEND;TZID=America/Indiana/Indianapolis:20260811T220000
DTSTAMP:20260420T092205
CREATED:20260223T155329Z
LAST-MODIFIED:20260323T130646Z
UID:10011867-1786474800-1786485600@discoverwhiteriver.com
SUMMARY:Simple Plan: Bigger Than You Think! Tour - The Sequel!
DESCRIPTION:Enjoy a high‑energy night of pop‑punk nostalgia at Everwise Amphitheater with Simple Plan on their Bigger Than You Think! Tour – The Sequel! Celebrating more than 25 years of anthemic hits\, the band delivers a career‑spanning set full of fan favorites like “I’m Just a Kid\,” “Welcome to My Life\,” “Summer Paradise” and more\, alongside deeper tracks rarely performed live. Joined by support from Bowling for Soup and 3OH!3\, this stacked lineup brings nonstop energy\, sing‑along moments and upbeat party vibes to the stage in a celebration of pop‑punk’s enduring appeal.
URL:https://discoverwhiteriver.com/event/simple-plan-bigger-than-you-think-tour-the-sequel/
LOCATION:Everwise Amphitheater at White River State Park\, 801 W Washington ST\, Indianapolis\, IN\, 46204
CATEGORIES:Entertainment,Featured
ATTACH;FMTTYPE=image/png:https://discoverwhiteriver.com/wp-content/uploads/2026/02/Everwise_Ampitheatre.png
GEO:39.7665145;-86.170606
X-APPLE-STRUCTURED-LOCATION;VALUE=URI;X-ADDRESS=Everwise Amphitheater at White River State Park 801 W Washington ST Indianapolis IN 46204;X-APPLE-RADIUS=500;X-TITLE=801 W Washington ST:geo:-86.170606,39.7665145
END:VEVENT
BEGIN:VEVENT
DTSTART;TZID=America/Indiana/Indianapolis:20260814T183000
DTEND;TZID=America/Indiana/Indianapolis:20260814T213000
DTSTAMP:20260420T092205
CREATED:20260223T171943Z
LAST-MODIFIED:20260323T130641Z
UID:10011868-1786732200-1786743000@discoverwhiteriver.com
SUMMARY:Motionless In White: The Sweat and Blood Tour
DESCRIPTION:Enjoy a powerful night of hard‑edged metal at Everwise Amphitheater with Motionless In White on The Sweat and Blood Tour. This tour marks the band’s first major U.S. headlining run in nearly three years and features intense performances that blend metalcore ferocity\, gothic atmospheres\, and theatrical energy. Motionless In White will deliver new material from their upcoming album alongside fan‑favorite anthems\, backed by high‑impact production and commanding stage presence. Support comes from Lorna Shore\, Fit For A King\, and Static Dress\, creating a relentless lineup for fans of heavy music and unforgettable live shows.
URL:https://discoverwhiteriver.com/event/motionless-in-white-the-sweat-and-blood-tour/
LOCATION:Everwise Amphitheater at White River State Park\, 801 W Washington ST\, Indianapolis\, IN\, 46204
CATEGORIES:Entertainment,Featured
ATTACH;FMTTYPE=image/png:https://discoverwhiteriver.com/wp-content/uploads/2026/02/Everwise_Ampitheatre.png
GEO:39.7665145;-86.170606
X-APPLE-STRUCTURED-LOCATION;VALUE=URI;X-ADDRESS=Everwise Amphitheater at White River State Park 801 W Washington ST Indianapolis IN 46204;X-APPLE-RADIUS=500;X-TITLE=801 W Washington ST:geo:-86.170606,39.7665145
END:VEVENT
BEGIN:VEVENT
DTSTART;TZID=America/Indiana/Indianapolis:20260816T133000
DTEND;TZID=America/Indiana/Indianapolis:20260816T170000
DTSTAMP:20260420T092205
CREATED:20260312T151124Z
LAST-MODIFIED:20260326T155458Z
UID:10012234-1786887000-1786899600@discoverwhiteriver.com
SUMMARY:Boats and Brews
DESCRIPTION:Embark on an extraordinary journey with the “Boats and Brews” event\, a thrilling collaboration between Guggman Haus Brewing and Frank’s Paddlesports Livery. Join us for a day of paddling\, camaraderie\, and excellent beer!
URL:https://discoverwhiteriver.com/event/boats-and-brews/2026-08-16/
LOCATION:Frank’s Paddlesports Livery\, 3001 North White River Parkway West Drive\, Indianapolis\, IN\, 46222\, United States
CATEGORIES:Recreation,Featured
ATTACH;FMTTYPE=image/jpeg:https://discoverwhiteriver.com/wp-content/uploads/2025/10/boats-and-brews-with-guggman-haus.jpg
END:VEVENT
BEGIN:VEVENT
DTSTART;TZID=America/Indiana/Indianapolis:20260822T200000
DTEND;TZID=America/Indiana/Indianapolis:20260822T230000
DTSTAMP:20260420T092205
CREATED:20260223T172340Z
LAST-MODIFIED:20260323T130634Z
UID:10011869-1787428800-1787439600@discoverwhiteriver.com
SUMMARY:Lindsey Stirling - Duality Untamed Tour
DESCRIPTION:Enjoy a visually stunning night of music and performance at Everwise Amphitheater with Lindsey Stirling on her Duality Untamed Tour. Known for blending virtuosic electronic violin with dynamic choreography\, theatrical staging\, and aerial artistry\, Stirling brings her genre‑defying show to life with inventive arrangements from her album Duality alongside beloved favorites. Special guest PVRIS opens the evening with their dark electro‑rock sound\, adding intensity and edge to the concert experience. This tour promises an immersive fusion of sound\, movement\, and visual spectacle that appeals to fans of bold live performances.
URL:https://discoverwhiteriver.com/event/lindsey-stirling-duality-untamed-tour/
LOCATION:Everwise Amphitheater at White River State Park\, 801 W Washington ST\, Indianapolis\, IN\, 46204
CATEGORIES:Entertainment,Featured
ATTACH;FMTTYPE=image/png:https://discoverwhiteriver.com/wp-content/uploads/2026/02/Everwise_Ampitheatre.png
GEO:39.7665145;-86.170606
X-APPLE-STRUCTURED-LOCATION;VALUE=URI;X-ADDRESS=Everwise Amphitheater at White River State Park 801 W Washington ST Indianapolis IN 46204;X-APPLE-RADIUS=500;X-TITLE=801 W Washington ST:geo:-86.170606,39.7665145
END:VEVENT
BEGIN:VEVENT
DTSTART;TZID=America/Indiana/Indianapolis:20260826T193000
DTEND;TZID=America/Indiana/Indianapolis:20260826T223000
DTSTAMP:20260420T092205
CREATED:20260223T172624Z
LAST-MODIFIED:20260323T130612Z
UID:10011870-1787772600-1787783400@discoverwhiteriver.com
SUMMARY:Caamp
DESCRIPTION:Enjoy an evening of warm\, soulful folk‑rock at Everwise Amphitheater with Caamp. Known for their rich harmonies\, introspective songwriting\, and blend of acoustic and electric textures\, the band draws on heartfelt storytelling and melodic depth to create an engaging live experience. On tour in support of their latest work and fan favorites from across their catalog\, Caamp delivers dynamic performances that range from intimate\, campfire‑like moments to exuberant sing‑along anthems. With their organic stage presence and thoughtful arrangements\, this concert offers a memorable celebration of contemporary Americana and folk‑infused rock.
URL:https://discoverwhiteriver.com/event/caamp/
LOCATION:Everwise Amphitheater at White River State Park\, 801 W Washington ST\, Indianapolis\, IN\, 46204
CATEGORIES:Entertainment,Featured
ATTACH;FMTTYPE=image/png:https://discoverwhiteriver.com/wp-content/uploads/2026/02/Everwise_Ampitheatre.png
GEO:39.7665145;-86.170606
X-APPLE-STRUCTURED-LOCATION;VALUE=URI;X-ADDRESS=Everwise Amphitheater at White River State Park 801 W Washington ST Indianapolis IN 46204;X-APPLE-RADIUS=500;X-TITLE=801 W Washington ST:geo:-86.170606,39.7665145
END:VEVENT
BEGIN:VEVENT
DTSTART;TZID=America/Indiana/Indianapolis:20260827T190000
DTEND;TZID=America/Indiana/Indianapolis:20260827T220000
DTSTAMP:20260420T092205
CREATED:20260312T152543Z
LAST-MODIFIED:20260326T154954Z
UID:10012239-1787857200-1787868000@discoverwhiteriver.com
SUMMARY:Moonrise Guided Paddle
DESCRIPTION:Join Frank’s Paddlesport Livery for a magical evening on the water! Our route will take us out on a peaceful stretch of the White River\, culminating in a breathtaking view of the full moon rising over Indianapolis. This is the skyline as you’ve never seen it before!
URL:https://discoverwhiteriver.com/event/moonrise-guided-paddle/2026-08-27/
LOCATION:Frank’s Paddlesports Livery\, 3001 North White River Parkway West Drive\, Indianapolis\, IN\, 46222\, United States
CATEGORIES:Recreation,Featured
ATTACH;FMTTYPE=image/jpeg:https://discoverwhiteriver.com/wp-content/uploads/2026/03/file_63f4e108a8ddd_DWR_White_River_Moon_over_river8_elbohb.jpg
END:VEVENT
BEGIN:VEVENT
DTSTART;TZID=America/Indiana/Indianapolis:20260830T093000
DTEND;TZID=America/Indiana/Indianapolis:20260830T120000
DTSTAMP:20260420T092205
CREATED:20260303T190918Z
LAST-MODIFIED:20260303T191122Z
UID:10012202-1788082200-1788091200@discoverwhiteriver.com
SUMMARY:Forest Therapy for Adults
DESCRIPTION:Step away from the rush and rediscover what it means to be fully present in nature.  Led by a certified Nature & Forest Therapy Guide\, you’ll move at an unhurried pace and receive gentle invitations to engage with the sights\, sounds\, textures\, and smells around you. Slow down\, engage your senses\, and reconnect with the natural world—all on Indiana’s first and only certified Forest Therapy trail. 
URL:https://discoverwhiteriver.com/event/forest-therapy-for-adults/2026-08-30/
LOCATION:Conner Prairie\, 13400 Allisonville Road\, Fishers\, IN\, 46038
CATEGORIES:Environment & Ecology,Recreation
ATTACH;FMTTYPE=image/jpeg:https://discoverwhiteriver.com/wp-content/uploads/2025/09/wellness-walk-fairbanks.jpg
GEO:39.9845083;-86.0288171
X-APPLE-STRUCTURED-LOCATION;VALUE=URI;X-ADDRESS=Conner Prairie 13400 Allisonville Road Fishers IN 46038;X-APPLE-RADIUS=500;X-TITLE=13400 Allisonville Road:geo:-86.0288171,39.9845083
END:VEVENT
END:VCALENDAR