BEGIN:VCALENDAR
VERSION:2.0
PRODID:-//Discover White River - ECPv6.15.18//NONSGML v1.0//EN
CALSCALE:GREGORIAN
METHOD:PUBLISH
X-WR-CALNAME:Discover White River
X-ORIGINAL-URL:https://discoverwhiteriver.com
X-WR-CALDESC:Events for Discover White River
REFRESH-INTERVAL;VALUE=DURATION:PT1H
X-Robots-Tag:noindex
X-PUBLISHED-TTL:PT1H
BEGIN:VTIMEZONE
TZID:America/Indiana/Indianapolis
BEGIN:DAYLIGHT
TZOFFSETFROM:-0500
TZOFFSETTO:-0400
TZNAME:EDT
DTSTART:20250309T070000
END:DAYLIGHT
BEGIN:STANDARD
TZOFFSETFROM:-0400
TZOFFSETTO:-0500
TZNAME:EST
DTSTART:20251102T060000
END:STANDARD
BEGIN:DAYLIGHT
TZOFFSETFROM:-0500
TZOFFSETTO:-0400
TZNAME:EDT
DTSTART:20260308T070000
END:DAYLIGHT
BEGIN:STANDARD
TZOFFSETFROM:-0400
TZOFFSETTO:-0500
TZNAME:EST
DTSTART:20261101T060000
END:STANDARD
BEGIN:DAYLIGHT
TZOFFSETFROM:-0500
TZOFFSETTO:-0400
TZNAME:EDT
DTSTART:20270314T070000
END:DAYLIGHT
BEGIN:STANDARD
TZOFFSETFROM:-0400
TZOFFSETTO:-0500
TZNAME:EST
DTSTART:20271107T060000
END:STANDARD
END:VTIMEZONE
BEGIN:VEVENT
DTSTART;TZID=America/Indiana/Indianapolis:20261025T133000
DTEND;TZID=America/Indiana/Indianapolis:20261025T170000
DTSTAMP:20260425T094719
CREATED:20260312T151124Z
LAST-MODIFIED:20260326T155458Z
UID:10012236-1792935000-1792947600@discoverwhiteriver.com
SUMMARY:Boats and Brews
DESCRIPTION:Embark on an extraordinary journey with the “Boats and Brews” event\, a thrilling collaboration between Guggman Haus Brewing and Frank’s Paddlesports Livery. Join us for a day of paddling\, camaraderie\, and excellent beer!
URL:https://discoverwhiteriver.com/event/boats-and-brews/2026-10-25/
LOCATION:Frank’s Paddlesports Livery\, 3001 North White River Parkway West Drive\, Indianapolis\, IN\, 46222\, United States
CATEGORIES:Recreation,Featured
ATTACH;FMTTYPE=image/jpeg:https://discoverwhiteriver.com/wp-content/uploads/2025/10/boats-and-brews-with-guggman-haus.jpg
END:VEVENT
BEGIN:VEVENT
DTSTART;TZID=America/Indiana/Indianapolis:20261025T120000
DTEND;TZID=America/Indiana/Indianapolis:20261025T160000
DTSTAMP:20260425T094719
CREATED:20260311T150428Z
LAST-MODIFIED:20260326T155629Z
UID:10012225-1792929600-1792944000@discoverwhiteriver.com
SUMMARY:RAFT Water Sampling
DESCRIPTION:Join RAFT  (River Assessment Field Teams) Volunteers to conduct essential water quality sampling. With some time and dedication\, anyone 18 years of age and older with moderate physical fitness (due to uneven terrain) can become a RAFT volunteer. Before becoming a RAFT volunteer\, first complete the online RAFT training program. This will provide an important foundation for understanding what’s involved in water sampling as well as the science behind the various measurements you will take in the field.
URL:https://discoverwhiteriver.com/event/water-sampling/2026-10-25/
LOCATION:Conner Prairie\, 13400 Allisonville Road\, Fishers\, IN\, 46038
CATEGORIES:Environment & Ecology,Volunteer & Service,Featured
ATTACH;FMTTYPE=image/png:https://discoverwhiteriver.com/wp-content/uploads/2024/10/raft-habitat.png
GEO:39.9845083;-86.0288171
X-APPLE-STRUCTURED-LOCATION;VALUE=URI;X-ADDRESS=Conner Prairie 13400 Allisonville Road Fishers IN 46038;X-APPLE-RADIUS=500;X-TITLE=13400 Allisonville Road:geo:-86.0288171,39.9845083
END:VEVENT
BEGIN:VEVENT
DTSTART;TZID=America/Indiana/Indianapolis:20261025T093000
DTEND;TZID=America/Indiana/Indianapolis:20261025T120000
DTSTAMP:20260425T094719
CREATED:20260303T190918Z
LAST-MODIFIED:20260303T191122Z
UID:10012203-1792920600-1792929600@discoverwhiteriver.com
SUMMARY:Forest Therapy for Adults
DESCRIPTION:Step away from the rush and rediscover what it means to be fully present in nature.  Led by a certified Nature & Forest Therapy Guide\, you’ll move at an unhurried pace and receive gentle invitations to engage with the sights\, sounds\, textures\, and smells around you. Slow down\, engage your senses\, and reconnect with the natural world—all on Indiana’s first and only certified Forest Therapy trail. 
URL:https://discoverwhiteriver.com/event/forest-therapy-for-adults/2026-10-25/
LOCATION:Conner Prairie\, 13400 Allisonville Road\, Fishers\, IN\, 46038
CATEGORIES:Environment & Ecology,Recreation
ATTACH;FMTTYPE=image/jpeg:https://discoverwhiteriver.com/wp-content/uploads/2025/09/wellness-walk-fairbanks.jpg
GEO:39.9845083;-86.0288171
X-APPLE-STRUCTURED-LOCATION;VALUE=URI;X-ADDRESS=Conner Prairie 13400 Allisonville Road Fishers IN 46038;X-APPLE-RADIUS=500;X-TITLE=13400 Allisonville Road:geo:-86.0288171,39.9845083
END:VEVENT
BEGIN:VEVENT
DTSTART;TZID=America/Indiana/Indianapolis:20261003T200000
DTEND;TZID=America/Indiana/Indianapolis:20261003T230000
DTSTAMP:20260425T094719
CREATED:20260327T131009Z
LAST-MODIFIED:20260327T131013Z
UID:10012350-1791057600-1791068400@discoverwhiteriver.com
SUMMARY:Brewfari
DESCRIPTION:Leave the little ones at home to sample a selection of brews\, enjoy live music and get up-close with the animals at this adults-only evening. It’s the wildest Halloween party in Indy! \n\n\n\nEnjoy exclusive after-hours access and stroll down the Zoo’s main pathways while sampling from craft breweries\, cideries and distilleries from Central Indiana and beyond. \n\n\n\nIn addition to the dozens of delicious brew samples\, we’ll have a variety of Halloween-themed activities\, animal chats and demonstrations through the evening. Plus\, enjoy psychic readings inside the Ascension St. Vincent Dolphin Gallery\, and live entertainment throughout the night from DJ Lockstar in the Bicentennial Pavilion. \n\n\n\nCostumes are encouraged! All guests must be 21 or older and tickets are non-refundable. Discount tickets are available for designated drivers. Proceeds support the Indianapolis Zoo’s mission of protecting nature and inspiring people to care for our world.
URL:https://discoverwhiteriver.com/event/brewfari-2/
LOCATION:Indianapolis Zoo\, 1200 W Washington ST\, Indianapolis\, IN\, 46222
CATEGORIES:Environment & Ecology,Recreation
ATTACH;FMTTYPE=image/png:https://discoverwhiteriver.com/wp-content/uploads/2025/03/zoo.png
GEO:39.7680104;-86.1806592
X-APPLE-STRUCTURED-LOCATION;VALUE=URI;X-ADDRESS=Indianapolis Zoo 1200 W Washington ST Indianapolis IN 46222;X-APPLE-RADIUS=500;X-TITLE=1200 W Washington ST:geo:-86.1806592,39.7680104
END:VEVENT
BEGIN:VEVENT
DTSTART;TZID=America/Indiana/Indianapolis:20261001T100000
DTEND;TZID=America/Indiana/Indianapolis:20261001T200000
DTSTAMP:20260425T094719
CREATED:20260123T161017Z
LAST-MODIFIED:20260323T131542Z
UID:10012251-1790848800-1790884800@discoverwhiteriver.com
SUMMARY:Free First Thursday - Newfields
DESCRIPTION:Experience all that Newfields has to offer on the first Thursday of every month. Enjoy the Indianapolis Museum of Art and The Garden\, live musical performances\, and open studio hours and gallery conversations. Whether you’re a first-time visitor or a longtime Member\, First Thursdays are the perfect opportunity to discover something new and have an exceptional experience with art and nature.  \n\n\n\nOn this day\, general admission is flexible—you choose how much (or how little) to pay. Donations support programs like First Thursday and the care of our art collection and garden\, as well as education programs\, community engagement initiatives\, and more. 
URL:https://discoverwhiteriver.com/event/first-thursday/2026-10-01/
LOCATION:Newfields\, 4000 N Michigan Road\, Indianapolis\, IN\, 46208\, United States
CATEGORIES:History & Culture
ATTACH;FMTTYPE=image/png:https://discoverwhiteriver.com/wp-content/uploads/2024/08/newfields-sign.png
GEO:39.8260205;-86.1857647
X-APPLE-STRUCTURED-LOCATION;VALUE=URI;X-ADDRESS=Newfields 4000 N Michigan Road Indianapolis IN 46208 United States;X-APPLE-RADIUS=500;X-TITLE=4000 N Michigan Road:geo:-86.1857647,39.8260205
END:VEVENT
BEGIN:VEVENT
DTSTART;TZID=America/Indiana/Indianapolis:20260926T190000
DTEND;TZID=America/Indiana/Indianapolis:20260926T220000
DTSTAMP:20260425T094719
CREATED:20260312T152543Z
LAST-MODIFIED:20260326T154954Z
UID:10012240-1790449200-1790460000@discoverwhiteriver.com
SUMMARY:Moonrise Guided Paddle
DESCRIPTION:Join Frank’s Paddlesport Livery for a magical evening on the water! Our route will take us out on a peaceful stretch of the White River\, culminating in a breathtaking view of the full moon rising over Indianapolis. This is the skyline as you’ve never seen it before!
URL:https://discoverwhiteriver.com/event/moonrise-guided-paddle/2026-09-26/
LOCATION:Frank’s Paddlesports Livery\, 3001 North White River Parkway West Drive\, Indianapolis\, IN\, 46222\, United States
CATEGORIES:Recreation,Featured
ATTACH;FMTTYPE=image/jpeg:https://discoverwhiteriver.com/wp-content/uploads/2026/03/file_63f4e108a8ddd_DWR_White_River_Moon_over_river8_elbohb.jpg
END:VEVENT
BEGIN:VEVENT
DTSTART;TZID=America/Indiana/Indianapolis:20260915T193000
DTEND;TZID=America/Indiana/Indianapolis:20260915T223000
DTSTAMP:20260425T094719
CREATED:20260223T172808Z
LAST-MODIFIED:20260323T130600Z
UID:10011871-1789500600-1789511400@discoverwhiteriver.com
SUMMARY:WTTS Rock on the River - Mt. Joy 2026: Celebrating 10 Years of Mt. Joy
DESCRIPTION:Enjoy an evening of rich\, emotive indie rock at WTTS Rock on the River – Mt. Joy 2026: Celebrating 10 Years of Mt. Joy at Everwise Amphitheater at White River State Park. The Philadelphia‑based band has become known for blending anthemic folk‑rock melodies with thoughtful\, human storytelling and dynamic live performance. On this special tour celebrating a decade together\, they will perform fan favorites from their catalog alongside songs from recent releases\, showcasing the heartfelt sound that has defined their rise over the past ten years. With a commitment to community and charity built into the tour\, this concert promises memorable music and a shared celebration of Mt. Joy’s journey and connection with fans.
URL:https://discoverwhiteriver.com/event/wtts-rock-on-the-river-mt-joy-2026-celebrating-10-years-of-mt-joy/
LOCATION:Everwise Amphitheater at White River State Park\, 801 W Washington ST\, Indianapolis\, IN\, 46204
CATEGORIES:Entertainment,Featured
ATTACH;FMTTYPE=image/png:https://discoverwhiteriver.com/wp-content/uploads/2026/02/Everwise_Ampitheatre.png
GEO:39.7665145;-86.170606
X-APPLE-STRUCTURED-LOCATION;VALUE=URI;X-ADDRESS=Everwise Amphitheater at White River State Park 801 W Washington ST Indianapolis IN 46204;X-APPLE-RADIUS=500;X-TITLE=801 W Washington ST:geo:-86.170606,39.7665145
END:VEVENT
BEGIN:VEVENT
DTSTART;TZID=America/Indiana/Indianapolis:20260913T133000
DTEND;TZID=America/Indiana/Indianapolis:20260913T170000
DTSTAMP:20260425T094719
CREATED:20260312T151124Z
LAST-MODIFIED:20260326T155458Z
UID:10012235-1789306200-1789318800@discoverwhiteriver.com
SUMMARY:Boats and Brews
DESCRIPTION:Embark on an extraordinary journey with the “Boats and Brews” event\, a thrilling collaboration between Guggman Haus Brewing and Frank’s Paddlesports Livery. Join us for a day of paddling\, camaraderie\, and excellent beer!
URL:https://discoverwhiteriver.com/event/boats-and-brews/2026-09-13/
LOCATION:Frank’s Paddlesports Livery\, 3001 North White River Parkway West Drive\, Indianapolis\, IN\, 46222\, United States
CATEGORIES:Recreation,Featured
ATTACH;FMTTYPE=image/jpeg:https://discoverwhiteriver.com/wp-content/uploads/2025/10/boats-and-brews-with-guggman-haus.jpg
END:VEVENT
BEGIN:VEVENT
DTSTART;TZID=America/Indiana/Indianapolis:20260906T100000
DTEND;TZID=America/Indiana/Indianapolis:20260906T113000
DTSTAMP:20260425T094719
CREATED:20260303T190402Z
LAST-MODIFIED:20260303T190410Z
UID:10012200-1788688800-1788694200@discoverwhiteriver.com
SUMMARY:Forest Therapy: Family Friendly
DESCRIPTION:Share the magic of mindful connection with nature as a family. This Forest Therapy experience offers a gentle\, guided introduction to slowing down together and discovering the wonder of nature in new ways. Led by a certified Nature & Forest Therapy Guide\, you’ll move at an unhurried pace and receive gentle invitations to engage with the sights\, sounds\, textures\, and smells around you. Slow down\, engage your senses\, and reconnect with the natural world—all on Indiana’s first and only certified Forest Therapy trail. 
URL:https://discoverwhiteriver.com/event/forest-therapy-family-friendly/2026-09-06/
LOCATION:Conner Prairie\, 13400 Allisonville Road\, Fishers\, IN\, 46038
CATEGORIES:Environment & Ecology,Recreation
ATTACH;FMTTYPE=image/jpeg:https://discoverwhiteriver.com/wp-content/uploads/2025/09/wellness-walk-fairbanks.jpg
GEO:39.9845083;-86.0288171
X-APPLE-STRUCTURED-LOCATION;VALUE=URI;X-ADDRESS=Conner Prairie 13400 Allisonville Road Fishers IN 46038;X-APPLE-RADIUS=500;X-TITLE=13400 Allisonville Road:geo:-86.0288171,39.9845083
END:VEVENT
END:VCALENDAR