BEGIN:VCALENDAR
VERSION:2.0
PRODID:-//Discover White River - ECPv6.15.18//NONSGML v1.0//EN
CALSCALE:GREGORIAN
METHOD:PUBLISH
X-WR-CALNAME:Discover White River
X-ORIGINAL-URL:https://discoverwhiteriver.com
X-WR-CALDESC:Events for Discover White River
REFRESH-INTERVAL;VALUE=DURATION:PT1H
X-Robots-Tag:noindex
X-PUBLISHED-TTL:PT1H
BEGIN:VTIMEZONE
TZID:America/Indiana/Indianapolis
BEGIN:DAYLIGHT
TZOFFSETFROM:-0500
TZOFFSETTO:-0400
TZNAME:EDT
DTSTART:20250309T070000
END:DAYLIGHT
BEGIN:STANDARD
TZOFFSETFROM:-0400
TZOFFSETTO:-0500
TZNAME:EST
DTSTART:20251102T060000
END:STANDARD
BEGIN:DAYLIGHT
TZOFFSETFROM:-0500
TZOFFSETTO:-0400
TZNAME:EDT
DTSTART:20260308T070000
END:DAYLIGHT
BEGIN:STANDARD
TZOFFSETFROM:-0400
TZOFFSETTO:-0500
TZNAME:EST
DTSTART:20261101T060000
END:STANDARD
BEGIN:DAYLIGHT
TZOFFSETFROM:-0500
TZOFFSETTO:-0400
TZNAME:EDT
DTSTART:20270314T070000
END:DAYLIGHT
BEGIN:STANDARD
TZOFFSETFROM:-0400
TZOFFSETTO:-0500
TZNAME:EST
DTSTART:20271107T060000
END:STANDARD
END:VTIMEZONE
BEGIN:VEVENT
DTSTART;TZID=America/Indiana/Indianapolis:20260214T103000
DTEND;TZID=America/Indiana/Indianapolis:20260214T111500
DTSTAMP:20260419T191038
CREATED:20260116T205929Z
LAST-MODIFIED:20260116T210321Z
UID:10011775-1771065000-1771067700@discoverwhiteriver.com
SUMMARY:Performing Arts | ShooBeeLoo: Twinkle Twinkle Little Star
DESCRIPTION:Your child will be the star of this show! Twinkle\, jingle\, count the stars\, and croon a tune while swinging on the moon. During this session\, singer and guitarist Michelle Marti will be leading songs about the wonders of starlit nights and moonshine. You and your child can tap\, sing\, and jingle along\, with the help of a plethora of percussion instruments and toys in this age appropriate music class for young children accompanied by a parent or caregiver. \n\n\n\nMs. Michelle of ShooBeeLoo Music is a musician\, educator\, and performer. She has been leading children and their parents in music classes since 2007. Born and raised in Australia\, Michelle has traveled the world playing music and learning about a variety of cultures. Through her classes\, “Ms. Michelle” introduces children to a broad spectrum of musical genres and experiences. She teaches music at a number of preschools and community centers throughout Central Indiana.
URL:https://discoverwhiteriver.com/event/performing-arts-shoobeeloo-twinkle-twinkle-little-star/2026-02-14/
LOCATION:Broad Ripple Park\, 1500 Broad Ripple Avenue\, Indianapolis\, IN\, 46220
CATEGORIES:Entertainment,Featured
ATTACH;FMTTYPE=image/jpeg:https://discoverwhiteriver.com/wp-content/uploads/2021/08/Banner-BroadRipple.jpg
GEO:39.871616;-86.130249
X-APPLE-STRUCTURED-LOCATION;VALUE=URI;X-ADDRESS=Broad Ripple Park 1500 Broad Ripple Avenue Indianapolis IN 46220;X-APPLE-RADIUS=500;X-TITLE=1500 Broad Ripple Avenue:geo:-86.130249,39.871616
END:VEVENT
BEGIN:VEVENT
DTSTART;TZID=America/Indiana/Indianapolis:20260214T100000
DTEND;TZID=America/Indiana/Indianapolis:20260214T120000
DTSTAMP:20260419T191038
CREATED:20260123T144509Z
LAST-MODIFIED:20260123T144516Z
UID:10011816-1771063200-1771070400@discoverwhiteriver.com
SUMMARY:Visual Arts | Valentine's Coffee & Crafts | Holliday Park
DESCRIPTION:Grab a snack and get creative this Valentine’s Day. We’ll be using natural materials to make one-of-a-kind botanical inspired cards using gel plates. During this hands-on workshop\, you’ll get instruction on creating textures and layering colors to produce a variety of prints on paper. No prior printmaking experience is required\, materials are provided\, and be prepared to get a little messy.Ages 18+Saturday\, Feb. 1410 am$10/person\, pre-registration required
URL:https://discoverwhiteriver.com/event/visual-arts-valentines-coffee-crafts-holliday-park/
LOCATION:Holliday Park\, 6363 Spring Mill Road\, Indianapolis\, IN\, 46260
CATEGORIES:Recreation,Featured
ATTACH;FMTTYPE=image/png:https://discoverwhiteriver.com/wp-content/uploads/2025/03/holliday-park-1.png
GEO:39.8715638;-86.1611471
X-APPLE-STRUCTURED-LOCATION;VALUE=URI;X-ADDRESS=Holliday Park 6363 Spring Mill Road Indianapolis IN 46260;X-APPLE-RADIUS=500;X-TITLE=6363 Spring Mill Road:geo:-86.1611471,39.8715638
END:VEVENT
BEGIN:VEVENT
DTSTART;TZID=America/Indiana/Indianapolis:20260211T110000
DTEND;TZID=America/Indiana/Indianapolis:20260211T120000
DTSTAMP:20260419T191038
CREATED:20260116T152412Z
LAST-MODIFIED:20260116T152415Z
UID:10011750-1770807600-1770811200@discoverwhiteriver.com
SUMMARY:Visual Arts | Arts for All | Broad Ripple
DESCRIPTION:Arts for All is a “flexible\, drop in art program where youth can drop in and engage in a creative\, engaging art activity. Participants will be able to take their project home same day. All materials are included.
URL:https://discoverwhiteriver.com/event/visual-arts-arts-for-all-broad-ripple/2026-02-11/
LOCATION:Broad Ripple Park\, 1500 Broad Ripple Avenue\, Indianapolis\, IN\, 46220
CATEGORIES:Recreation
ATTACH;FMTTYPE=image/png:https://discoverwhiteriver.com/wp-content/uploads/2026/01/broad-ripple-family-center.png
GEO:39.871616;-86.130249
X-APPLE-STRUCTURED-LOCATION;VALUE=URI;X-ADDRESS=Broad Ripple Park 1500 Broad Ripple Avenue Indianapolis IN 46220;X-APPLE-RADIUS=500;X-TITLE=1500 Broad Ripple Avenue:geo:-86.130249,39.871616
END:VEVENT
BEGIN:VEVENT
DTSTART;TZID=America/Indiana/Indianapolis:20260211T100000
DTEND;TZID=America/Indiana/Indianapolis:20260211T130000
DTSTAMP:20260419T191038
CREATED:20260116T151332Z
LAST-MODIFIED:20260116T151334Z
UID:10011710-1770804000-1770814800@discoverwhiteriver.com
SUMMARY:Club | Nature Journaling Club | Holliday Park
DESCRIPTION:Nature journaling is using words\, pictures\, and numbers to record and collect your observations\, thoughts\, and experiences in nature onto a page of your journal \n\n\n\nDuring this monthly club\, you’ll spend time outside observing with a group of like-minded nature enthusiasts as you take a closer look at your surroundings and practice mindfulness together. All abilities welcome and participants must bring their own art supplies and journals. This club meets outside\, so plan to dress for the weather. \n\n\n\nWednesdays: Jan. 7\, Mar. 4\, Apr. 1\, May 6 \n\n\n\n10 am- 1 pm \n\n\n\nFree\, no registration required
URL:https://discoverwhiteriver.com/event/club-nature-journaling-club-holliday-park/2026-02-11/
LOCATION:Holliday Park\, 6363 Spring Mill Road\, Indianapolis\, IN\, 46260
CATEGORIES:Environment & Ecology
ATTACH;FMTTYPE=image/png:https://discoverwhiteriver.com/wp-content/uploads/2025/03/holliday-park.png
GEO:39.8715638;-86.1611471
X-APPLE-STRUCTURED-LOCATION;VALUE=URI;X-ADDRESS=Holliday Park 6363 Spring Mill Road Indianapolis IN 46260;X-APPLE-RADIUS=500;X-TITLE=6363 Spring Mill Road:geo:-86.1611471,39.8715638
END:VEVENT
BEGIN:VEVENT
DTSTART;TZID=America/Indiana/Indianapolis:20260210T160000
DTEND;TZID=America/Indiana/Indianapolis:20260210T170000
DTSTAMP:20260419T191038
CREATED:20260116T150554Z
LAST-MODIFIED:20260310T184432Z
UID:10011652-1770739200-1770742800@discoverwhiteriver.com
SUMMARY:Sensory Art Class | Riverside
DESCRIPTION:A fun\, hands-on program designed to help toddlers explore textures\, colors\, sounds\, and movement through playful sensory activities that support early learning and development. \n\n\n\nAges 3-6
URL:https://discoverwhiteriver.com/event/visual-arts-sensory-art-class-riverside/2026-02-10/
LOCATION:Riverside Park\, 2420 E Riverside Dr\, Indianapolis\, IN\, 46208
CATEGORIES:History & Culture,Recreation
ATTACH;FMTTYPE=image/jpeg:https://discoverwhiteriver.com/wp-content/uploads/2021/08/Banner-Riverside.jpg
GEO:39.8016824;-86.1930541
X-APPLE-STRUCTURED-LOCATION;VALUE=URI;X-ADDRESS=Riverside Park 2420 E Riverside Dr Indianapolis IN 46208;X-APPLE-RADIUS=500;X-TITLE=2420 E Riverside Dr:geo:-86.1930541,39.8016824
END:VEVENT
BEGIN:VEVENT
DTSTART;TZID=America/Indiana/Indianapolis:20260209T160000
DTEND;TZID=America/Indiana/Indianapolis:20260209T170000
DTSTAMP:20260419T191038
CREATED:20260116T143553Z
LAST-MODIFIED:20260310T184503Z
UID:10011372-1770652800-1770656400@discoverwhiteriver.com
SUMMARY:Arts For All: Riverside
DESCRIPTION:Join us for our new Arts for All self-directed art program! Each month\, a fun craft will be available in our lobby for kids to enjoy and create??
URL:https://discoverwhiteriver.com/event/visual-arts-arts-for-all-riverside/2026-02-09/
LOCATION:Riverside Park\, 2420 E Riverside Dr\, Indianapolis\, IN\, 46208
CATEGORIES:History & Culture,Recreation
GEO:39.8016824;-86.1930541
X-APPLE-STRUCTURED-LOCATION;VALUE=URI;X-ADDRESS=Riverside Park 2420 E Riverside Dr Indianapolis IN 46208;X-APPLE-RADIUS=500;X-TITLE=2420 E Riverside Dr:geo:-86.1930541,39.8016824
END:VEVENT
BEGIN:VEVENT
DTSTART;TZID=America/Indiana/Indianapolis:20260208T160000
DTEND;TZID=America/Indiana/Indianapolis:20260208T173000
DTSTAMP:20260419T191038
CREATED:20260106T151019Z
LAST-MODIFIED:20260106T151022Z
UID:10011188-1770566400-1770571800@discoverwhiteriver.com
SUMMARY:Bee Tea
DESCRIPTION:Join us on February 8th at 4pm in the Teter Lodge to have tea and learn about honey bees from our esteemed beekeeper\, Jim Berndt. We will offer a selection of quality teas and accoutrements. The food will be vegetarian friendly. We tend to dress up a bit but comfort is always top priority. Seats are limited. 
URL:https://discoverwhiteriver.com/event/bee-tea/
LOCATION:Teter Retreat and Organic Farm\, 10980 E 221st St\, Noblesville\, IN\, 46062\, United States
ATTACH;FMTTYPE=image/jpeg:https://discoverwhiteriver.com/wp-content/uploads/2026/01/image.jpeg
GEO:40.112069;-85.970415
X-APPLE-STRUCTURED-LOCATION;VALUE=URI;X-ADDRESS=Teter Retreat and Organic Farm 10980 E 221st St Noblesville IN 46062 United States;X-APPLE-RADIUS=500;X-TITLE=10980 E 221st St:geo:-85.970415,40.112069
END:VEVENT
BEGIN:VEVENT
DTSTART;TZID=America/Indiana/Indianapolis:20260207T103000
DTEND;TZID=America/Indiana/Indianapolis:20260207T120000
DTSTAMP:20260419T191038
CREATED:20260121T192835Z
LAST-MODIFIED:20260121T192838Z
UID:10011804-1770460200-1770465600@discoverwhiteriver.com
SUMMARY:Nature | Foraging 101: Winter | Holliday Park
DESCRIPTION:Foraging is a way to connect to feel more connected to our environment\, as well as where we get our food. The forests of Indiana provide plenty of nutritious and tasty options! Join a naturalist at the Holliday Park Nature Center to learn about what and how you can forage in winter. We will also learn how to forage safely\, ethically\, and sustainably. All participants will receive a booklet with recipes using edible plants that are commonly found in Indiana! Learn about Nature’s bounty and begin to forage with confidence! \n\n\n\nThis workshop is part of a series of workshops on foraging that will focus on a different season for each session. These workshops will run from Summer 2025 to Summer 2026. Feel free to come to one or all of the sessions! \n\n\n\nFree\, registration is required. \n\n\n\nThis workshop is designed for ages 18+. \n\n\n\nSaturday\, Feb. 7 \n\n\n\n10:30 am-12 pm
URL:https://discoverwhiteriver.com/event/nature-foraging-101-winter-holliday-park/
LOCATION:Holliday Park\, 6363 Spring Mill Road\, Indianapolis\, IN\, 46260
CATEGORIES:Environment & Ecology
ATTACH;FMTTYPE=image/png:https://discoverwhiteriver.com/wp-content/uploads/2025/03/holliday-park-1.png
GEO:39.8715638;-86.1611471
X-APPLE-STRUCTURED-LOCATION;VALUE=URI;X-ADDRESS=Holliday Park 6363 Spring Mill Road Indianapolis IN 46260;X-APPLE-RADIUS=500;X-TITLE=6363 Spring Mill Road:geo:-86.1611471,39.8715638
END:VEVENT
BEGIN:VEVENT
DTSTART;TZID=America/Indiana/Indianapolis:20260207T103000
DTEND;TZID=America/Indiana/Indianapolis:20260207T111500
DTSTAMP:20260419T191038
CREATED:20260116T205929Z
LAST-MODIFIED:20260116T210321Z
UID:10011774-1770460200-1770462900@discoverwhiteriver.com
SUMMARY:Performing Arts | ShooBeeLoo: Twinkle Twinkle Little Star
DESCRIPTION:Your child will be the star of this show! Twinkle\, jingle\, count the stars\, and croon a tune while swinging on the moon. During this session\, singer and guitarist Michelle Marti will be leading songs about the wonders of starlit nights and moonshine. You and your child can tap\, sing\, and jingle along\, with the help of a plethora of percussion instruments and toys in this age appropriate music class for young children accompanied by a parent or caregiver. \n\n\n\nMs. Michelle of ShooBeeLoo Music is a musician\, educator\, and performer. She has been leading children and their parents in music classes since 2007. Born and raised in Australia\, Michelle has traveled the world playing music and learning about a variety of cultures. Through her classes\, “Ms. Michelle” introduces children to a broad spectrum of musical genres and experiences. She teaches music at a number of preschools and community centers throughout Central Indiana.
URL:https://discoverwhiteriver.com/event/performing-arts-shoobeeloo-twinkle-twinkle-little-star/2026-02-07/
LOCATION:Broad Ripple Park\, 1500 Broad Ripple Avenue\, Indianapolis\, IN\, 46220
CATEGORIES:Entertainment,Featured
ATTACH;FMTTYPE=image/jpeg:https://discoverwhiteriver.com/wp-content/uploads/2021/08/Banner-BroadRipple.jpg
GEO:39.871616;-86.130249
X-APPLE-STRUCTURED-LOCATION;VALUE=URI;X-ADDRESS=Broad Ripple Park 1500 Broad Ripple Avenue Indianapolis IN 46220;X-APPLE-RADIUS=500;X-TITLE=1500 Broad Ripple Avenue:geo:-86.130249,39.871616
END:VEVENT
END:VCALENDAR